Workbook

Sheet М-29
A1: Трест, управление _________________________________________________ | O1: На основе типовой формы № М-29
A2: Начальник строительного участка (производитель работ) __________________________ | O2: Исторический образец: приказ ЦСУ СССР 24.11.82 № 613
A4: ОТЧЁТ О РАСХОДЕ ОСНОВНЫХ МАТЕРИАЛОВ В СТРОИТЕЛЬСТВЕ В СОПОСТАВЛЕНИИ С РАСХОДОМ, ОПРЕДЕЛЁННЫМ ПО ПРОИЗВОДСТВЕННЫМ НОРМАМ
A6: Организация | E6: Общество с ограниченной ответственностью «Северный Дом»
A7: Объект строительства | E7: ИЖС 120 м² · Истра · финальная приёмка
A8: Отчётный период | E8: 01.06.2026 — 31.08.2026
A10: I. Нормативная потребность в материалах и объёмы выполненных работ
A12: Код строки | B12: Наименование видов работ, конструктивных элементов и материалов | C12: Код вида работ, конструктивного элемента | D12: Единица измерения | E12: Обоснование производственных норм расхода материалов | F12: Норма расхода материалов на единицу измерения работ | G12: Код материала | H12: Объём работ и нормативная потребность материалов на объект | I12: В том числе на начало отчётного года | J12: Объём выполненных работ и нормативный расход материалов по месяцам 2026 г.
J13: январь | K13: февраль | L13: март | M13: апрель | N13: май | O13: июнь | P13: июль | Q13: август | R13: сентябрь | S13: октябрь | T13: ноябрь | U13: декабрь
A14: 1 | B14: 2 | C14: 3 | D14: 4 | E14: 5 | F14: 6 | G14: 7 | H14: 8 | I14: 9 | J14: 10 | K14: 11 | L14: 12 | M14: 13 | N14: 14 | O14: 15 | P14: 16 | Q14: 17 | R14: 18 | S14: 19 | T14: 20 | U14: 21
A15: 1 | B15: Кладка кирпичного цоколя с устройством гидроизоляции — Кирпич полнотелый керамический М150 | D15: шт | F15: 50 | H15: ='Расчёт М-29'!B2*'Расчёт М-29'!A2 -> 1000 | I15: 0 | O15: 250 | P15: 500 | Q15: 250
A16: 2 | B16: Устройство монолитного железобетонного фундамента — Бетон товарный В25 (М350) | D16: м³ | F16: 1 | H16: ='Расчёт М-29'!B3*'Расчёт М-29'!A3 -> 10 | I16: 0 | O16: 4 | P16: 6
A19: Начальник строительного участка (прораб) __________________ __________ __________________ | L19: Проверил: инженер ПТО __________________ __________ __________________

Sheet М-29 раздел II
A3: РАЗДЕЛ II
A5: Наименование материалов, конструкций и изделий | B5: Единица измерения | C5: Итого на начало года | G5: Январь | K5: Февраль | O5: Март | S5: Апрель | W5: Май | AA5: Июнь | AE5: Июль | AI5: Август | AM5: Сентябрь | AQ5: Октябрь | AU5: Ноябрь | AY5: Декабрь | BC5: Итого за выбранный период | BG5: Всего с начала строительства
C6: расход | E6: экономия (−), перерасход (+) против норм | F6: списать на себестоимость | G6: расход | I6: экономия (−), перерасход (+) против норм | J6: списать на себестоимость | K6: расход | M6: экономия (−), перерасход (+) против норм | N6: списать на себестоимость | O6: расход | Q6: экономия (−), перерасход (+) против норм | R6: списать на себестоимость | S6: расход | U6: экономия (−), перерасход (+) против норм | V6: списать на себестоимость | W6: расход | Y6: экономия (−), перерасход (+) против норм | Z6: списать на себестоимость | AA6: расход | AC6: экономия (−), перерасход (+) против норм | AD6: списать на себестоимость | AE6: расход | AG6: экономия (−), перерасход (+) против норм | AH6: списать на себестоимость | AI6: расход | AK6: экономия (−), перерасход (+) против норм | AL6: списать на себестоимость | AM6: расход | AO6: экономия (−), перерасход (+) против норм | AP6: списать на себестоимость | AQ6: расход | AS6: экономия (−), перерасход (+) против норм | AT6: списать на себестоимость | AU6: расход | AW6: экономия (−), перерасход (+) против норм | AX6: списать на себестоимость | AY6: расход | BA6: экономия (−), перерасход (+) против норм | BB6: списать на себестоимость | BC6: расход | BE6: экономия (−), перерасход (+) против норм | BF6: списать на себестоимость | BG6: расход | BI6: экономия (−), перерасход (+) против норм | BJ6: списать на себестоимость
C7: по производственным нормам | D7: фактический | G7: по производственным нормам | H7: фактический | K7: по производственным нормам | L7: фактический | O7: по производственным нормам | P7: фактический | S7: по производственным нормам | T7: фактический | W7: по производственным нормам | X7: фактический | AA7: по производственным нормам | AB7: фактический | AE7: по производственным нормам | AF7: фактический | AI7: по производственным нормам | AJ7: фактический | AM7: по производственным нормам | AN7: фактический | AQ7: по производственным нормам | AR7: фактический | AU7: по производственным нормам | AV7: фактический | AY7: по производственным нормам | AZ7: фактический | BC7: по производственным нормам | BD7: фактический | BG7: по производственным нормам | BH7: фактический
A8: А | B8: Б | C8: 1 | D8: 2 | E8: 3 | F8: 4 | G8: 5 | H8: 6 | I8: 7 | J8: 8 | K8: 9 | L8: 10 | M8: 11 | N8: 12 | O8: 13 | P8: 14 | Q8: 15 | R8: 16 | S8: 17 | T8: 18 | U8: 19 | V8: 20 | W8: 21 | X8: 22 | Y8: 23 | Z8: 24 | AA8: 25 | AB8: 26 | AC8: 27 | AD8: 28 | AE8: 29 | AF8: 30 | AG8: 31 | AH8: 32 | AI8: 33 | AJ8: 34 | AK8: 35 | AL8: 36 | AM8: 37 | AN8: 38 | AO8: 39 | AP8: 40 | AQ8: 41 | AR8: 42 | AS8: 43 | AT8: 44 | AU8: 45 | AV8: 46 | AW8: 47 | AX8: 48 | AY8: 49 | AZ8: 50 | BA8: 51 | BB8: 52 | BC8: 53 | BD8: 54 | BE8: 55 | BF8: 56 | BG8: 57 | BH8: 58 | BI8: 59 | BJ8: 60
A9: Кирпич полнотелый керамический М150 — Кладка кирпичного цоколя с устройством гидроизоляции | B9: шт | C9: 0 | D9: 0 | E9: =D9-C9 -> 0 | AA9: 250 | AB9: 250 | AC9: =AB9-AA9 -> 0 | AE9: 500 | AF9: 500 | AG9: =AF9-AE9 -> 0 | AI9: 250 | AJ9: 250 | AK9: =AJ9-AI9 -> 0 | BC9: =G9+K9+O9+S9+W9+AA9+AE9+AI9+AM9+AQ9+AU9+AY9 -> 1000 | BD9: =H9+L9+P9+T9+X9+AB9+AF9+AJ9+AN9+AR9+AV9+AZ9 -> 1000 | BE9: =BD9-BC9 -> 0
A10: Бетон товарный В25 (М350) — Устройство монолитного железобетонного фундамента | B10: м³ | C10: 0 | D10: 0 | E10: =D10-C10 -> 0 | AA10: 4 | AB10: 4 | AC10: =AB10-AA10 -> 0 | AE10: 6 | AF10: 6 | AG10: =AF10-AE10 -> 0 | BC10: =G10+K10+O10+S10+W10+AA10+AE10+AI10+AM10+AQ10+AU10+AY10 -> 10 | BD10: =H10+L10+P10+T10+X10+AB10+AF10+AJ10+AN10+AR10+AV10+AZ10 -> 10 | BE10: =BD10-BC10 -> 0
A13: Начальник строительного участка (прораб) __________________ __________ __________________ | Q13: Проверил: инженер ПТО __________________ __________ __________________ | AG13: Проверил: бухгалтер __________________ __________ __________________ | AW13: Утверждаю: главный инженер __________________ __________ __________________

Sheet М-29 II 1
A1: Общество с ограниченной ответственностью «Северный Дом» · ИЖС 120 м² · Истра · финальная приёмка
A2: II. Сопоставление фактического расхода материалов с расходом по производственным нормам
A3: 01.06.2026 — 31.08.2026 · Итого на начало года, Январь, Февраль
A5: Наименование материалов, конструкций и изделий | B5: Единица измерения | C5: Итого на начало года | G5: Январь | K5: Февраль
C6: расход | E6: экономия (−), перерасход (+) против норм | F6: списать на себестоимость | G6: расход | I6: экономия (−), перерасход (+) против норм | J6: списать на себестоимость | K6: расход | M6: экономия (−), перерасход (+) против норм | N6: списать на себестоимость
C7: по производственным нормам | D7: фактический | G7: по производственным нормам | H7: фактический | K7: по производственным нормам | L7: фактический
A8: А | B8: Б | C8: 1 | D8: 2 | E8: 3 | F8: 4 | G8: 5 | H8: 6 | I8: 7 | J8: 8 | K8: 9 | L8: 10 | M8: 11 | N8: 12
A9: Кирпич полнотелый керамический М150 — Кладка кирпичного цоколя с устройством гидроизоляции | B9: шт | C9: 0 | D9: 0 | E9: ='М-29 раздел II'!D9-'М-29 раздел II'!C9
A10: Бетон товарный В25 (М350) — Устройство монолитного железобетонного фундамента | B10: м³ | C10: 0 | D10: 0 | E10: ='М-29 раздел II'!D10-'М-29 раздел II'!C10
A12: Прораб: __________________ / __________________ | H12: Проверил: __________________ / __________________

Sheet М-29 II 2
A1: Общество с ограниченной ответственностью «Северный Дом» · ИЖС 120 м² · Истра · финальная приёмка
A2: II. Сопоставление фактического расхода материалов с расходом по производственным нормам
A3: 01.06.2026 — 31.08.2026 · Март, Апрель, Май
A5: Наименование материалов, конструкций и изделий | B5: Единица измерения | C5: Март | G5: Апрель | K5: Май
C6: расход | E6: экономия (−), перерасход (+) против норм | F6: списать на себестоимость | G6: расход | I6: экономия (−), перерасход (+) против норм | J6: списать на себестоимость | K6: расход | M6: экономия (−), перерасход (+) против норм | N6: списать на себестоимость
C7: по производственным нормам | D7: фактический | G7: по производственным нормам | H7: фактический | K7: по производственным нормам | L7: фактический
A8: А | B8: Б | C8: 13 | D8: 14 | E8: 15 | F8: 16 | G8: 17 | H8: 18 | I8: 19 | J8: 20 | K8: 21 | L8: 22 | M8: 23 | N8: 24
A9: Кирпич полнотелый керамический М150 — Кладка кирпичного цоколя с устройством гидроизоляции | B9: шт
A10: Бетон товарный В25 (М350) — Устройство монолитного железобетонного фундамента | B10: м³
A12: Прораб: __________________ / __________________ | H12: Проверил: __________________ / __________________

Sheet М-29 II 3
A1: Общество с ограниченной ответственностью «Северный Дом» · ИЖС 120 м² · Истра · финальная приёмка
A2: II. Сопоставление фактического расхода материалов с расходом по производственным нормам
A3: 01.06.2026 — 31.08.2026 · Июнь, Июль, Август
A5: Наименование материалов, конструкций и изделий | B5: Единица измерения | C5: Июнь | G5: Июль | K5: Август
C6: расход | E6: экономия (−), перерасход (+) против норм | F6: списать на себестоимость | G6: расход | I6: экономия (−), перерасход (+) против норм | J6: списать на себестоимость | K6: расход | M6: экономия (−), перерасход (+) против норм | N6: списать на себестоимость
C7: по производственным нормам | D7: фактический | G7: по производственным нормам | H7: фактический | K7: по производственным нормам | L7: фактический
A8: А | B8: Б | C8: 25 | D8: 26 | E8: 27 | F8: 28 | G8: 29 | H8: 30 | I8: 31 | J8: 32 | K8: 33 | L8: 34 | M8: 35 | N8: 36
A9: Кирпич полнотелый керамический М150 — Кладка кирпичного цоколя с устройством гидроизоляции | B9: шт | C9: 250 | D9: 250 | E9: ='М-29 раздел II'!AB9-'М-29 раздел II'!AA9 | G9: 500 | H9: 500 | I9: ='М-29 раздел II'!AF9-'М-29 раздел II'!AE9 | K9: 250 | L9: 250 | M9: ='М-29 раздел II'!AJ9-'М-29 раздел II'!AI9
A10: Бетон товарный В25 (М350) — Устройство монолитного железобетонного фундамента | B10: м³ | C10: 4 | D10: 4 | E10: ='М-29 раздел II'!AB10-'М-29 раздел II'!AA10 | G10: 6 | H10: 6 | I10: ='М-29 раздел II'!AF10-'М-29 раздел II'!AE10
A12: Прораб: __________________ / __________________ | H12: Проверил: __________________ / __________________

Sheet М-29 II 4
A1: Общество с ограниченной ответственностью «Северный Дом» · ИЖС 120 м² · Истра · финальная приёмка
A2: II. Сопоставление фактического расхода материалов с расходом по производственным нормам
A3: 01.06.2026 — 31.08.2026 · Сентябрь, Октябрь, Ноябрь
A5: Наименование материалов, конструкций и изделий | B5: Единица измерения | C5: Сентябрь | G5: Октябрь | K5: Ноябрь
C6: расход | E6: экономия (−), перерасход (+) против норм | F6: списать на себестоимость | G6: расход | I6: экономия (−), перерасход (+) против норм | J6: списать на себестоимость | K6: расход | M6: экономия (−), перерасход (+) против норм | N6: списать на себестоимость
C7: по производственным нормам | D7: фактический | G7: по производственным нормам | H7: фактический | K7: по производственным нормам | L7: фактический
A8: А | B8: Б | C8: 37 | D8: 38 | E8: 39 | F8: 40 | G8: 41 | H8: 42 | I8: 43 | J8: 44 | K8: 45 | L8: 46 | M8: 47 | N8: 48
A9: Кирпич полнотелый керамический М150 — Кладка кирпичного цоколя с устройством гидроизоляции | B9: шт
A10: Бетон товарный В25 (М350) — Устройство монолитного железобетонного фундамента | B10: м³
A12: Прораб: __________________ / __________________ | H12: Проверил: __________________ / __________________

Sheet М-29 II 5
A1: Общество с ограниченной ответственностью «Северный Дом» · ИЖС 120 м² · Истра · финальная приёмка
A2: II. Сопоставление фактического расхода материалов с расходом по производственным нормам
A3: 01.06.2026 — 31.08.2026 · Декабрь, Итого за выбранный период, Всего с начала строительства
A5: Наименование материалов, конструкций и изделий | B5: Единица измерения | C5: Декабрь | G5: Итого за выбранный период | K5: Всего с начала строительства
C6: расход | E6: экономия (−), перерасход (+) против норм | F6: списать на себестоимость | G6: расход | I6: экономия (−), перерасход (+) против норм | J6: списать на себестоимость | K6: расход | M6: экономия (−), перерасход (+) против норм | N6: списать на себестоимость
C7: по производственным нормам | D7: фактический | G7: по производственным нормам | H7: фактический | K7: по производственным нормам | L7: фактический
A8: А | B8: Б | C8: 49 | D8: 50 | E8: 51 | F8: 52 | G8: 53 | H8: 54 | I8: 55 | J8: 56 | K8: 57 | L8: 58 | M8: 59 | N8: 60
A9: Кирпич полнотелый керамический М150 — Кладка кирпичного цоколя с устройством гидроизоляции | B9: шт | G9: ='М-29 раздел II'!G9+'М-29 раздел II'!K9+'М-29 раздел II'!O9+'М-29 раздел II'!S9+'М-29 раздел II'!W9+'М-29 раздел II'!AA9+'М-29 раздел II'!AE9+'М-29 раздел II'!AI9+'М-29 раздел II'!AM9+'М-29 раздел II'!AQ9+'М-29 раздел II'!AU9+'М-29 раздел II'!AY9 -> 1000 | H9: ='М-29 раздел II'!H9+'М-29 раздел II'!L9+'М-29 раздел II'!P9+'М-29 раздел II'!T9+'М-29 раздел II'!X9+'М-29 раздел II'!AB9+'М-29 раздел II'!AF9+'М-29 раздел II'!AJ9+'М-29 раздел II'!AN9+'М-29 раздел II'!AR9+'М-29 раздел II'!AV9+'М-29 раздел II'!AZ9 -> 1000 | I9: ='М-29 раздел II'!BD9-'М-29 раздел II'!BC9
A10: Бетон товарный В25 (М350) — Устройство монолитного железобетонного фундамента | B10: м³ | G10: ='М-29 раздел II'!G10+'М-29 раздел II'!K10+'М-29 раздел II'!O10+'М-29 раздел II'!S10+'М-29 раздел II'!W10+'М-29 раздел II'!AA10+'М-29 раздел II'!AE10+'М-29 раздел II'!AI10+'М-29 раздел II'!AM10+'М-29 раздел II'!AQ10+'М-29 раздел II'!AU10+'М-29 раздел II'!AY10 -> 10 | H10: ='М-29 раздел II'!H10+'М-29 раздел II'!L10+'М-29 раздел II'!P10+'М-29 раздел II'!T10+'М-29 раздел II'!X10+'М-29 раздел II'!AB10+'М-29 раздел II'!AF10+'М-29 раздел II'!AJ10+'М-29 раздел II'!AN10+'М-29 раздел II'!AR10+'М-29 раздел II'!AV10+'М-29 раздел II'!AZ10 -> 10 | I10: ='М-29 раздел II'!BD10-'М-29 раздел II'!BC10
A12: Прораб: __________________ / __________________ | H12: Проверил: __________________ / __________________

Sheet Расшифровка М-29
A1: РАСШИФРОВКА РАСХОДА МАТЕРИАЛОВ ЗА ПЕРИОД
A3: Общество с ограниченной ответственностью «Северный Дом» · ИЖС 120 м² · Истра · финальная приёмка · 01.06.2026 — 31.08.2026
A4: Количество в графе «списать на себестоимость» заполняется после разрешения уполномоченного лица. Пустая графа означает, что решение не внесено. Денежные суммы приведены только в этой расшифровке.
A7: Работа | B7: Материал | C7: Ед. | D7: Объём работы | E7: Норма на единицу | F7: Расход по норме | G7: Фактический расход | H7: Отклонение | I7: Стоимость расхода, руб. | J7: Документы расхода | K7: Примечание
A8: Кладка кирпичного цоколя с устройством гидроизоляции | B8: Кирпич полнотелый керамический М150 | C8: шт | D8: 20 | E8: 50 | F8: =ROUND(D8*E8,4) -> 1000 | G8: 1000 | H8: =G8-F8 -> 0 | I8: 30000 | J8: ИЖС-РАС-001, ИЖС-РАС-002, ИЖС-РАС-003
A9: Устройство монолитного железобетонного фундамента | B9: Бетон товарный В25 (М350) | C9: м³ | D9: 10 | E9: 1 | F9: =ROUND(D9*E9,4) -> 10 | G9: 10 | H9: =G9-F9 -> 0 | I9: 65000 | J9: ИЖС-РАС-001, ИЖС-РАС-002

Sheet Расчёт М-29
A2: 50 | B2: 20 | C2: 20
A3: 1 | B3: 10 | C3: 10
